BEGIN:VCALENDAR
VERSION:2.0
PRODID:-//Hopneri Maja - ECPv6.3.5//NONSGML v1.0//EN
CALSCALE:GREGORIAN
METHOD:PUBLISH
X-ORIGINAL-URL:https://hopnerimaja.eu
X-WR-CALDESC:Events for Hopneri Maja
REFRESH-INTERVAL;VALUE=DURATION:PT1H
X-Robots-Tag:noindex
X-PUBLISHED-TTL:PT1H
BEGIN:VTIMEZONE
TZID:Europe/Tallinn
BEGIN:DAYLIGHT
TZOFFSETFROM:+0200
TZOFFSETTO:+0300
TZNAME:EEST
DTSTART:20240331T010000
END:DAYLIGHT
BEGIN:STANDARD
TZOFFSETFROM:+0300
TZOFFSETTO:+0200
TZNAME:EET
DTSTART:20241027T010000
END:STANDARD
BEGIN:DAYLIGHT
TZOFFSETFROM:+0200
TZOFFSETTO:+0300
TZNAME:EEST
DTSTART:20250330T010000
END:DAYLIGHT
BEGIN:STANDARD
TZOFFSETFROM:+0300
TZOFFSETTO:+0200
TZNAME:EET
DTSTART:20251026T010000
END:STANDARD
END:VTIMEZONE
BEGIN:VEVENT
DTSTART;TZID=Europe/Tallinn:20250827T183000
DTEND;TZID=Europe/Tallinn:20250827T210000
DTSTAMP:20260419T205747
CREATED:20250806T115700Z
LAST-MODIFIED:20250806T131154Z
UID:10001191-1756319400-1756328400@hopnerimaja.eu
SUMMARY:DRINK & DRAW Tallinn @Hopneri maja
DESCRIPTION:Asukoht: Hopneri Maja (Raekoja plats 18)Modell: naismodellÕhtujuht: Toon Vugts \nValmistu 2\,5 tunniks loovaks ja lõõgastavaks joonistamisõhtuks imelise modelli\, mõnusa muusika\, ägedate inimeste ja inspireerivate jookidega ajaloolises Hopneri Majas! ♥ \nOodatud on kõik – algajatest edasijõudnuteni!See ei ole kunstikursus ega sisalda juhendamist\, vaid vabameelne ja sõbralik võimalus harjutada joonistamisoskust ning kohtuda teiste kunstihuvilistega. \nVahendid:Võid võtta kaasa oma joonistustarbed\, aga palume olla ettevaatlik märgade värvide ja tintide kasutamisel.Meie poolt on olemas joonistusalused\, mõned molbertid\, visandipaber ning Skizze poolt pakutud erinevad visandivahendid. \nKohapeal on müügil ka kohv\, tee ja DnD õlu.Oma joogid võib vabalt kaasa võtta.Ainult sularaha! \n\nPiletid:\n\nTavapilet: 10 €\nSooduspilet: 7\,50 €\nDuopilet: 17\,50 € (üks pilet kehtib kahele inimesele)\nKohapeal: 12 € (soodustused ei kehti\, ainult sularahas)\n\n\n⚠ Oluline teada: \n\nModelli laval olles on pildistamine rangelt keelatud.\nEnne ja pärast joonistamist on oodatud pildistamine – jaga oma töid ja elamusi ning märgi @drinkndraw_tallinn!\n\n\nKohtume Hopneri Majas ♥ \nAlkohoolseid jooke serveeritakse vaid täisealistele (18+).\nKehtib üliõpilastele\, pensionäridele\, puudega isikutele\, Eesti Kunstnike Liidu ja ESN liikmetele – esita kehtiv tõend!Piletid saab tühistada ja raha tagasi küsida kuni 48 tundi enne ürituse algust. \n  \n\n    \n                                    \n    \n    \n    \n    \n            \n            \n    \n        Osta pilet\n\n        \n        \n            \n    \n\n\n\n 
URL:https://hopnerimaja.eu/sundmus/drink-draw-tallinn-hopneri-maja-2/
LOCATION:Hopneri maja\, Raekoja plats 18\, Tallinn\, Eesti
CATEGORIES:Töötoad
ATTACH;FMTTYPE=image/jpeg:https://hopnerimaja.eu/wp-content/uploads/2025/08/2708_HopneriMaja.jpg
END:VEVENT
BEGIN:VEVENT
DTSTART;TZID=Europe/Tallinn:20250818T183000
DTEND;TZID=Europe/Tallinn:20250818T210000
DTSTAMP:20260419T205747
CREATED:20250806T114722Z
LAST-MODIFIED:20250806T131227Z
UID:10001190-1755541800-1755550800@hopnerimaja.eu
SUMMARY:DRINK & DRAW Tallinn @Hopneri maja
DESCRIPTION:Asukoht: Hopneri Maja (Raekoja plats 18)Modell: naismodellÕhtujuht: Toon Vugts \nValmistu 2\,5 tunniks loovaks ja lõõgastavaks joonistamisõhtuks imelise modelli\, mõnusa muusika\, ägedate inimeste ja inspireerivate jookidega ajaloolises Hopneri Majas! ♥ \nOodatud on kõik – algajatest edasijõudnuteni!See ei ole kunstikursus ega sisalda juhendamist\, vaid vabameelne ja sõbralik võimalus harjutada joonistamisoskust ning kohtuda teiste kunstihuvilistega. \nVahendid:Võid võtta kaasa oma joonistustarbed\, aga palume olla ettevaatlik märgade värvide ja tintide kasutamisel.Meie poolt on olemas joonistusalused\, mõned molbertid\, visandipaber ning Skizze poolt pakutud erinevad visandivahendid. \nKohapeal on müügil ka kohv\, tee ja DnD õlu.Oma joogid võib vabalt kaasa võtta.Ainult sularaha! \n\nPiletid:\n\nTavapilet: 10 €\nSooduspilet: 7\,50 €\nDuopilet: 17\,50 € (üks pilet kehtib kahele inimesele)\nKohapeal: 12 € (soodustused ei kehti\, ainult sularahas)\n\n\n⚠ Oluline teada: \n\nModelli laval olles on pildistamine rangelt keelatud.\nEnne ja pärast joonistamist on oodatud pildistamine – jaga oma töid ja elamusi ning märgi @drinkndraw_tallinn!\n\n\nKohtume Hopneri Majas ♥ \nAlkohoolseid jooke serveeritakse vaid täisealistele (18+).\nKehtib üliõpilastele\, pensionäridele\, puudega isikutele\, Eesti Kunstnike Liidu ja ESN liikmetele – esita kehtiv tõend!Piletid saab tühistada ja raha tagasi küsida kuni 48 tundi enne ürituse algust. \n  \n\n    \n                                    \n    \n    \n    \n    \n            \n            \n    \n        Osta pilet\n\n        \n        \n            \n    \n\n\n\n 
URL:https://hopnerimaja.eu/sundmus/drink-draw-tallinn-hopneri-maja/
LOCATION:Hopneri maja\, Raekoja plats 18\, Tallinn\, Eesti
CATEGORIES:Töötoad
ATTACH;FMTTYPE=image/jpeg:https://hopnerimaja.eu/wp-content/uploads/2025/08/1808_HopneriMaja.jpg
END:VEVENT
BEGIN:VEVENT
DTSTART;TZID=Europe/Tallinn:20250813T183000
DTEND;TZID=Europe/Tallinn:20250813T210000
DTSTAMP:20260419T205747
CREATED:20250806T113616Z
LAST-MODIFIED:20250806T141209Z
UID:10001189-1755109800-1755118800@hopnerimaja.eu
SUMMARY:DRINK & DRAW Tallinn @Hopneri maja
DESCRIPTION:Asukoht: Hopneri Maja (Raekoja plats 18)Modell: naismodellÕhtujuht: Toon Vugts \nValmistu 2\,5 tunniks loovaks ja lõõgastavaks joonistamisõhtuks imelise modelli\, mõnusa muusika\, ägedate inimeste ja inspireerivate jookidega ajaloolises Hopneri Majas! ♥ \nOodatud on kõik – algajatest edasijõudnuteni!See ei ole kunstikursus ega sisalda juhendamist\, vaid vabameelne ja sõbralik võimalus harjutada joonistamisoskust ning kohtuda teiste kunstihuvilistega. \nVahendid:Võid võtta kaasa oma joonistustarbed\, aga palume olla ettevaatlik märgade värvide ja tintide kasutamisel.Meie poolt on olemas joonistusalused\, mõned molbertid\, visandipaber ning Skizze poolt pakutud erinevad visandivahendid. \nTuletorn tervitab kõiki osalejaid suvise ja värskendava joogiga – nende uus smoothie sour “Apricrush”! \nKohapeal on müügil ka kohv\, tee ja DnD õlu.Oma joogid võib vabalt kaasa võtta.Ainult sularaha! \n\nPiletid:\n\nTavapilet: 10 €\nSooduspilet: 7\,50 €\nDuopilet: 17\,50 € (üks pilet kehtib kahele inimesele)\nKohapeal: 12 € (soodustused ei kehti\, ainult sularahas)\n\n\n⚠ Oluline teada: \n\nModelli laval olles on pildistamine rangelt keelatud.\nEnne ja pärast joonistamist on oodatud pildistamine – jaga oma töid ja elamusi ning märgi @drinkndraw_tallinn!\n\n\nKohtume Hopneri Majas ♥ \nAlkohoolseid jooke serveeritakse vaid täisealistele (18+).\nKehtib üliõpilastele\, pensionäridele\, puudega isikutele\, Eesti Kunstnike Liidu ja ESN liikmetele – esita kehtiv tõend!Piletid saab tühistada ja raha tagasi küsida kuni 48 tundi enne ürituse algust. \n  \n\n    \n                                    \n    \n    \n    \n    \n            \n            \n    \n        Osta pilet
URL:https://hopnerimaja.eu/sundmus/%f0%9f%8e%a8-drink-draw-tallinn-joonista-koos-meiega-hopneri-majas-%f0%9f%8e%a8/
LOCATION:Hopneri maja\, Raekoja plats 18\, Tallinn\, Eesti
CATEGORIES:Töötoad
ATTACH;FMTTYPE=image/jpeg:https://hopnerimaja.eu/wp-content/uploads/2025/08/1308_HopneriMaja.jpg
END:VEVENT
BEGIN:VEVENT
DTSTART;TZID=Europe/Tallinn:20250326T183000
DTEND;TZID=Europe/Tallinn:20250326T210000
DTSTAMP:20260419T205747
CREATED:20250305T152508Z
LAST-MODIFIED:20250305T152603Z
UID:10001142-1743013800-1743022800@hopnerimaja.eu
SUMMARY:DRINK and DRAW Tallinn @Hopneri Maja
DESCRIPTION:Asukoht: Hopneri Maja (kontserdisaal)\nModell: Naismodell \nValmistuge 2\,5 tunni pikkuseks nauditavaks joonistamisõhtuks koos meie kauni modelliga\, mõnusate muusikaliste helide\, toredate inimestega ja – kui kõik läheb plaanipäraselt –  üllatusega Hopneri Majas! \nKõik oskustasemed on oodatud! Tegemist ei ole kunstitunniga\, juhendajat ei ole\, kuid see on suurepärane võimalus joonistada ja veeta aega sõprade ja teiste kunstihuvilistega. \nKohapeal on saadaval kohv\, tee ja DnD õlu (ainult sularahas).\nVõite kaasa võtta oma kunstitarbed\, kuid palume olla ettevaatlikud märgade materjalidega.\nPakume joonistamiseks alusplaate ja mõned molbertid\, samuti paberit ja erinevaid joonistusmaterjale. \nPiletihinnad:\nTavapilet: 10 eurot\nSooduspilet: 7\,50 eurot\nDuubelpilet (kehtib kahele osalejale): 17\,50 eurot \nPiletite hind ukselt ostes on 12 eurot (ainult sularahas\, soodustused ei kehti). \nPalun pange tähele\, et fotode tegemine on absoluutelt keelatud\, kui modell on laval.\nEnne ja pärast üritust olete aga väga oodatud tegema pilte oma joonistustest ja üritusest ning jagama neid @drinkndraw_tallinn! \nKohtumiseni Hopneri Majas! ♥ \nAlkohoolseid jooke serveeritakse ainult täisealistele (18+).\nSooduspiletid kehtivad õpilastele\, pensionäridele\, puuetega inimestele\, Eesti Kunstnike Liidu liikmetele ja ESN liikmetele.\nPalume kaasa võtta kehtiv soodus- või isikut tõendav dokument.\nPiletite tühistamine ja tagastamine on võimalik kuni 48 tundi enne üritust. \n\n    \n                                    \n    \n    \n    \n    \n            \n            \n    \n        Osta pilet
URL:https://hopnerimaja.eu/sundmus/drink-and-draw-tallinn-hopneri-maja/
LOCATION:Hopneri maja\, Raekoja plats 18\, Tallinn\, Eesti
CATEGORIES:Muud sündmused
ATTACH;FMTTYPE=image/jpeg:https://hopnerimaja.eu/wp-content/uploads/2025/03/dd2603.jpg
END:VEVENT
BEGIN:VEVENT
DTSTART;TZID=Europe/Tallinn:20241113T183000
DTEND;TZID=Europe/Tallinn:20241113T210000
DTSTAMP:20260419T205747
CREATED:20241028T124705Z
LAST-MODIFIED:20241028T130435Z
UID:10001016-1731522600-1731531600@hopnerimaja.eu
SUMMARY:Drink and Draw Tallinn Hopneri majas
DESCRIPTION:Valmistuge 2\,5-tunniseks mõnusaks joonistamiseks meie kauni modelliga\, mõnusate rütmide\, inspireerivate jookide ja lõbusate inimestega imekauni keskaegses Hopneri majas! ♥ \nTeeme nii lühikesi kui ka pikemaid poose.\nKohapeal saab osta sularaha eest teed\, kohvi ja DnD õlut. \nKõik oskustasemed on teretulnud! See pole kunstitund\, siin pole juhendajat\, vaid lõbus ja sõbralik võimalus joonistada koos oma sõprade ja teiste kunstnikega. Pärast joonistamissessiooni ja pausidel julgustame teid jagama oma töid grupiga! \nVõite kaasa võtta oma kunstitarbed\, kuid kohpeal on olemas ka joonistamisalused ja mõned molbertid\, millel joonistada. Lisaks hunnik joonistuspabereid ning erinevaid joonistusmaterjale. \nTavapilet: 10 eurot\nSooduspilet: 7\,50 eurot\nTopeltpilet: 17\,50 eurot (üks pilet kehtib kahele osalejale)\nPilet kohapeal: 12 eurot ainult sularahas (soodustuskaardid ei kehti) \nNB! Pildistamine on keelatud ajal kui modell on laval. Enne ja pärast joonistamist olete väga teretulnud kogu sündmusest ning joonistustest pilte tegema\, jagama ja täägima ka @drinkndraw_tallinn! 🙂 \nKohtumiseni Hopneri Majas! \nAlkoholi tarbivad osalejad peavad olema vähemalt 18-aastased.\nKui oled soetanud sooduspileti\, võta kaasa ka soodustust lubav dokument.\nOstetud pileteid saab tagastada kuni 48h enne sündmuse toimumist\nTöötuba on ingliskeelne! \n\n    \n                                    \n    \n    \n    \n    \n            \n            \n    \n        Osta pilet
URL:https://hopnerimaja.eu/sundmus/drink-and-draw-tallinn-hopneri-majas-2/
LOCATION:Hopneri maja\, Raekoja plats 18\, Tallinn\, Eesti
CATEGORIES:Huvitegevus,Kursused,Muud sündmused
ATTACH;FMTTYPE=image/jpeg:https://hopnerimaja.eu/wp-content/uploads/2024/10/WhatsApp-Image-2024-10-28-at-14.20.18-1.jpeg
END:VEVENT
BEGIN:VEVENT
DTSTART;TZID=Europe/Tallinn:20241106T183000
DTEND;TZID=Europe/Tallinn:20241106T210000
DTSTAMP:20260419T205747
CREATED:20241028T123433Z
LAST-MODIFIED:20241028T123433Z
UID:10001015-1730917800-1730926800@hopnerimaja.eu
SUMMARY:Drink and Draw Tallinn Hopneri majas
DESCRIPTION:Valmistuge 2\,5-tunniseks mõnusaks joonistamiseks meie kauni modelliga\, mõnusate rütmide\, inspireerivate jookide ja lõbusate inimestega imekauni keskaegses Hopneri majas! ♥ \nTeeme nii lühikesi kui ka pikemaid poose.\nKohapeal saab osta sularaha eest teed\, kohvi ja DnD õlut. \nKõik oskustasemed on teretulnud! See pole kunstitund\, siin pole juhendajat\, vaid lõbus ja sõbralik võimalus joonistada koos oma sõprade ja teiste kunstnikega. Pärast joonistamissessiooni ja pausidel julgustame teid jagama oma töid grupiga! \nVõite kaasa võtta oma kunstitarbed\, kuid kohpeal on olemas ka joonistamisalused ja mõned molbertid\, millel joonistada. Lisaks hunnik joonistuspabereid ning erinevaid joonistusmaterjale. \nTavapilet: 10 eurot\nSooduspilet: 7\,50 eurot\nTopeltpilet: 17\,50 eurot (üks pilet kehtib kahele osalejale)\nPilet kohapeal: 12 eurot ainult sularahas (soodustuskaardid ei kehti) \nNB! Pildistamine on keelatud ajal kui modell on laval. Enne ja pärast joonistamist olete väga teretulnud kogu sündmusest ning joonistustest pilte tegema\, jagama ja täägima ka @drinkndraw_tallinn! 🙂 \nKohtumiseni Hopneri Majas! \nAlkoholi tarbivad osalejad peavad olema vähemalt 18-aastased.\nKui oled soetanud sooduspileti\, võta kaasa ka soodustust lubav dokument.\nOstetud pileteid saab tagastada kuni 48h enne sündmuse toimumist\nTöötuba on ingliskeelne! \n\n    \n                                    \n    \n    \n    \n    \n            \n            \n    \n        Osta pilet
URL:https://hopnerimaja.eu/sundmus/drink-and-draw-tallinn-hopneri-majas/
LOCATION:Hopneri maja\, Raekoja plats 18\, Tallinn\, Eesti
CATEGORIES:Huvitegevus,Kursused,Muud sündmused
ATTACH;FMTTYPE=image/jpeg:https://hopnerimaja.eu/wp-content/uploads/2024/10/WhatsApp-Image-2024-10-28-at-14.20.18.jpeg
END:VEVENT
BEGIN:VEVENT
DTSTART;TZID=Europe/Tallinn:20241023T183000
DTEND;TZID=Europe/Tallinn:20241023T210000
DTSTAMP:20260419T205748
CREATED:20241018T095230Z
LAST-MODIFIED:20241018T095621Z
UID:10001011-1729708200-1729717200@hopnerimaja.eu
SUMMARY:Drink and Draw Tallinn Hopneri majas
DESCRIPTION:Valmistuge 2\,5-tunniseks mõnusaks joonistamiseks meie kauni modelliga\, mõnusate rütmide\, inspireerivate jookide ja lõbusate inimestega imekauni keskaegses Hopneri majas! ♥ \nTeeme nii lühikesi kui ka pikemaid poose. (5 x 2 minutit / 4 x 5 minutit / 3 x 10 minutit / 20-minutiline paus / 2 x 15 minutit / 2 x 10 minutit / 1 x 5 minutit)\nKohapeal saab osta sularaha eest teed\, kohvi ja DnD õlut. \nKõik oskustasemed on teretulnud! See pole kunstitund\, siin pole juhendajat\, vaid lõbus ja sõbralik võimalus joonistada koos oma sõprade ja teiste kunstnikega. Pärast joonistamissessiooni ja pausidel julgustame teid jagama oma töid grupiga! \nVõite kaasa võtta oma kunstitarbed\, kuid kohpeal on olemas ka joonistamisalused ja mõned molbertid\, millel joonistada. Lisaks hunnik joonistuspabereid ning erinevaid joonistusmaterjale. \nTavapilet: 10 eurot\nSooduspilet: 7\,50 eurot\nTopeltpilet: 17\,50 eurot (üks pilet kehtib kahele osalejale)\nPilet kohapeal: 12 eurot ainult sularahas (soodustuskaardid ei kehti) \nNB! Pildistamine on keelatud ajal kui modell on laval. Enne ja pärast joonistamist olete väga teretulnud kogu sündmusest ning joonistustest pilte tegema\, jagama ja täägima ka @drinkndraw_tallinn! 🙂 \nKohtumiseni Hopneri Majas! \nAlkoholi tarbivad osalejad peavad olema vähemalt 18-aastased.\nKui oled soetanud sooduspileti\, võta kaasa ka soodustust lubav dokument.\nOstetud pileteid saab tagastada kuni 48h enne sündmuse toimumist\nTöötuba on ingliskeelne! \n\n    \n                                    \n    \n    \n    \n    \n            \n            \n    \n        Osta pilet
URL:https://hopnerimaja.eu/sundmus/2345/
LOCATION:Hopneri maja\, Raekoja plats 18\, Tallinn\, Eesti
CATEGORIES:Huvitegevus,Kursused,Muud sündmused
ATTACH;FMTTYPE=image/jpeg:https://hopnerimaja.eu/wp-content/uploads/2024/10/2310_HOPPNER1920x1080.jpg
END:VEVENT
END:VCALENDAR